BEGIN:VCALENDAR
VERSION:2.0
PRODID:-//rfr/addtomycal//NONSGML v1.0//EN
BEGIN:VEVENT
UID:rouen.fr
DTSTAMP:20260419T172210Z
DTSTART:20250815T140000Z
DTEND:20250815T140000Z
SUMMARY:Rouen-Angers
DESCRIPTION:sport - Hockey sur glace
 - tout public - 9,95 €
 - Billetterie : https:
LOCATION:
END:VEVENT
END:VCALENDAR
