BEGIN:VCALENDAR
VERSION:2.0
PRODID:-//rfr/addtomycal//NONSGML v1.0//EN
BEGIN:VEVENT
UID:rouen.fr
DTSTAMP:20260420T191711Z
DTSTART:20250912T200000Z
DTEND:20250912T200000Z
SUMMARY:Ciné plein air "A la belle étoile" 
DESCRIPTION:fête populaire - Cinéma
 - tout public - Gratuit
 -  - Dans le cadre des deux ans du centre social Diana-Armengol-Markarian

LOCATION:Place Alfred-de-Musset
, Rouen
END:VEVENT
END:VCALENDAR
