BEGIN:VCALENDAR
VERSION:2.0
PRODID:-//rfr/addtomycal//NONSGML v1.0//EN
BEGIN:VEVENT
UID:rouen.fr
DTSTAMP:20260420T073949Z
DTSTART:20250920T170000Z
DTEND:20250920T170000Z
SUMMARY:L'impatient par Marc Tourneboeuf 
DESCRIPTION:spectacle - Humour
 - tout public - Plein tarif : 21€ - Tarif réduit : 17€
 - Renseignements et réservation sur https:
LOCATION:
END:VEVENT
END:VCALENDAR
