BEGIN:VCALENDAR
VERSION:2.0
PRODID:-//rfr/addtomycal//NONSGML v1.0//EN
BEGIN:VEVENT
UID:rouen.fr
DTSTAMP:20260420T073152Z
DTSTART:20250930T173000Z
DTEND:20250930T173000Z
SUMMARY:Soirée Moteur
DESCRIPTION:visite - Automne Curieux
 - tout public - Gratuit
 - Plus d'informations sur Automne Curieux sur le site http:
LOCATION:
END:VEVENT
END:VCALENDAR
