BEGIN:VCALENDAR
VERSION:2.0
PRODID:-//rfr/addtomycal//NONSGML v1.0//EN
BEGIN:VEVENT
UID:rouen.fr
DTSTAMP:20260420T073533Z
DTSTART:20251001T190000Z
DTEND:20251001T190000Z
SUMMARY:Le dernier saltimbanque
DESCRIPTION:spectacle - Comédie
 - tout public - Plein tarif : 22€ - tarif réduit : 18€
 - Renseignements et réservation sur https:
LOCATION:
END:VEVENT
END:VCALENDAR
