BEGIN:VCALENDAR
VERSION:2.0
PRODID:-//rfr/addtomycal//NONSGML v1.0//EN
BEGIN:VEVENT
UID:rouen.fr
DTSTAMP:20260420T073747Z
DTSTART:20251003T183000Z
DTEND:20251003T183000Z
SUMMARY:Kokasse
DESCRIPTION:spectacle - Improvisation théâtrale
 - tout public - 10€
 - Informations et réservations sur : https:
LOCATION:
END:VEVENT
END:VCALENDAR
