BEGIN:VCALENDAR
VERSION:2.0
PRODID:-//rfr/addtomycal//NONSGML v1.0//EN
BEGIN:VEVENT
UID:rouen.fr
DTSTAMP:20260420T073043Z
DTSTART:20251009T083000Z
DTEND:20251009T083000Z
SUMMARY:Dans la tête de Sherlock Holmes : enquête sur une intelligence évolutive
DESCRIPTION:conférence - Fête de la Science
 - tout public - Gratuit
 - Renseignements : Éric Domingues – Université de Rouen Normandie eric.domingues@univ-rouen.fr ou accueil de l’UFR Sciences et Techniques au 02 32 95 50 00.
 - Par Florence Cabaret, maîtresse de conférences, Laboratoire ERIAC, Université de Rouen Normandie

LOCATION:Amphithéâtre Sophie Germain (D), campus du Madrillet, Université Rouen-Normandie
, Saint-Étienne-du-Rouvray
END:VEVENT
END:VCALENDAR
