BEGIN:VCALENDAR
VERSION:2.0
PRODID:-//rfr/addtomycal//NONSGML v1.0//EN
BEGIN:VEVENT
UID:rouen.fr
DTSTAMP:20260425T032624Z
DTSTART:20251025T090000Z
DTEND:20251025T090000Z
SUMMARY:Edouard Lefroussard et la forêt interdite
DESCRIPTION:spectacle - Spectacle pour enfant
 - enfant - Tarif adulte : 12€ - tarif enfant jusqu'à 14 ans : 10€
 - Renseignements et réservation sur https:
LOCATION:
END:VEVENT
END:VCALENDAR
