BEGIN:VCALENDAR
VERSION:2.0
PRODID:-//rfr/addtomycal//NONSGML v1.0//EN
BEGIN:VEVENT
UID:rouen.fr
DTSTAMP:20260420T134702Z
DTSTART:20251108T081500Z
DTEND:20251108T081500Z
SUMMARY:Run&Visit : marche rapide
DESCRIPTION:visite - Footing culturel
 - tout public - 9 euros
 - Renseignement et réservation sur https:
LOCATION:
END:VEVENT
END:VCALENDAR
