BEGIN:VCALENDAR
VERSION:2.0
PRODID:-//rfr/addtomycal//NONSGML v1.0//EN
BEGIN:VEVENT
UID:rouen.fr
DTSTAMP:20260422T210357Z
DTSTART:20251113T190000Z
DTEND:20251113T190000Z
SUMMARY:Jean-Louis Aubert
DESCRIPTION:musique - Concert
 - tout public - De 39€ à 74€
 - Renseignement et réservation sur https:
LOCATION:
END:VEVENT
END:VCALENDAR
