BEGIN:VCALENDAR
VERSION:2.0
PRODID:-//rfr/addtomycal//NONSGML v1.0//EN
BEGIN:VEVENT
UID:rouen.fr
DTSTAMP:20260420T073946Z
DTSTART:20251115T094500Z
DTEND:20251115T094500Z
SUMMARY:Hussardes noirs : des enseignantes à l'avant-garde des luttes
DESCRIPTION:conférence - Histoire
 - tout public - Gratuit
 - Renseignements et réservation sur http:
LOCATION:
END:VEVENT
END:VCALENDAR
