BEGIN:VCALENDAR
VERSION:2.0
PRODID:-//rfr/addtomycal//NONSGML v1.0//EN
BEGIN:VEVENT
UID:rouen.fr
DTSTAMP:20260420T133541Z
DTSTART:20251115T100000Z
DTEND:20251115T100000Z
SUMMARY:Atelier danse hip-hop adultes 
DESCRIPTION:atelier - Danse
 - tout public - 10€
 - Renseignements et inscriptions 02 35 88 09 98 ou SMS
LOCATION:Whatsapp 07 88 62 42 54
 - Niveau débutant
END:VEVENT
END:VCALENDAR
