BEGIN:VCALENDAR
VERSION:2.0
PRODID:-//rfr/addtomycal//NONSGML v1.0//EN
BEGIN:VEVENT
UID:rouen.fr
DTSTAMP:20260423T033518Z
DTSTART:20251118T200000Z
DTEND:20251118T200000Z
SUMMARY:Paris Comedy Club
DESCRIPTION:spectacle - Humour
 - tout public - Plein tarif : 26€ - Tarif réduit : 12€
 - Renseignements et réservation sur https:
LOCATION:
END:VEVENT
END:VCALENDAR
