BEGIN:VCALENDAR
VERSION:2.0
PRODID:-//rfr/addtomycal//NONSGML v1.0//EN
BEGIN:VEVENT
UID:rouen.fr
DTSTAMP:20260420T073153Z
DTSTART:20251119T140000Z
DTEND:20251119T140000Z
SUMMARY:Tu me lis ça ?
DESCRIPTION:rencontre - Contes
 - enfant - Gratuit
 - L'entrée pour cet événement est libre, gratuite et sans inscription, dans la limite des places disponibles
 - Un rendez-vous de lecture individuelle dès le plus jeune âge ! Il n’est jamais trop tôt pour favoriser la rencontre des enfants et des livres. L’enfant choisit son livre, sa position d’écoute et le rythme de la lecture. La bibliothécaire prête sa voix et les adultes présents sont invités, s’ils le souhaitent, à prêter la leur, pour que l’enfant puisse même choisir son lecteur.

LOCATION:Bibliothèque Saint-Sever
, Rouen
END:VEVENT
END:VCALENDAR
