BEGIN:VCALENDAR
VERSION:2.0
PRODID:-//rfr/addtomycal//NONSGML v1.0//EN
BEGIN:VEVENT
UID:rouen.fr
DTSTAMP:20260420T190835Z
DTSTART:20251126T170000Z
DTEND:20251126T170000Z
SUMMARY:Histoire du gaz en Normandie, de l'éclairage au biogaz
DESCRIPTION:conférence - Histoire
 - tout public - Gratuit
 - Renseignement par téléphone au 06 29 56 41 08, par courrier jean-michel.chedru@wanadoo.fr ou sur le site www.societe-emulation76.fr
 - Avec Michel Croguennec, docteur en histoire des techniques

LOCATION:Hôtel des Sociétés Savantes, 190 rue Beauvoisine, Rouen, Rouen
END:VEVENT
END:VCALENDAR
