BEGIN:VCALENDAR
VERSION:2.0
PRODID:-//rfr/addtomycal//NONSGML v1.0//EN
BEGIN:VEVENT
UID:rouen.fr
DTSTAMP:20260421T203329Z
DTSTART:20251128T160000Z
DTEND:20251128T160000Z
SUMMARY:Projection gratuite du documentaire Connections de Romain Froquet
DESCRIPTION:rencontre - Documentaire
 - tout public - Gratuit
 - Renseignements par téléphone au 07 88 15 89 63, par courriel contact@hangar107.fr ou sur le site https:
LOCATION:
END:VEVENT
END:VCALENDAR
