BEGIN:VCALENDAR
VERSION:2.0
PRODID:-//rfr/addtomycal//NONSGML v1.0//EN
BEGIN:VEVENT
UID:rouen.fr
DTSTAMP:20260421T002353Z
DTSTART:20251129T160000Z
DTEND:20251129T160000Z
SUMMARY:Clôture du Festival photographique de l'image et du Territoire Entr(e)voir
DESCRIPTION:musique - Musique
LOCATION:danse
 - tout public - Gratuit
 - Renseignements sur la page Facebook http:
END:VEVENT
END:VCALENDAR
