BEGIN:VCALENDAR
VERSION:2.0
PRODID:-//rfr/addtomycal//NONSGML v1.0//EN
BEGIN:VEVENT
UID:rouen.fr
DTSTAMP:20260420T073152Z
DTSTART:20251206T190000Z
DTEND:20251206T190000Z
SUMMARY:Carmina Burana
DESCRIPTION:musique - Concert
 - tout public - De 46€ à 71€
 - Renseignement et réservation sur https:
LOCATION:
END:VEVENT
END:VCALENDAR
