BEGIN:VCALENDAR
VERSION:2.0
PRODID:-//rfr/addtomycal//NONSGML v1.0//EN
BEGIN:VEVENT
UID:rouen.fr
DTSTAMP:20260421T073531Z
DTSTART:20260106T120000Z
DTEND:20260131T170000Z
SUMMARY:Dédire la Sablière
DESCRIPTION:visite - Exposition
 - tout public - Gratuit
 - Renseignement sur https:
LOCATION:
END:VEVENT
END:VCALENDAR
