BEGIN:VCALENDAR
VERSION:2.0
PRODID:-//rfr/addtomycal//NONSGML v1.0//EN
BEGIN:VEVENT
UID:rouen.fr
DTSTAMP:20260420T074033Z
DTSTART:20260123T174500Z
DTEND:20260123T174500Z
SUMMARY:Si les objets pouvaient parler
DESCRIPTION:visite - Patrimoine
 - tout public - De 12€ à 15€
 - Renseignement et réservation sur https:
LOCATION:
END:VEVENT
END:VCALENDAR
