BEGIN:VCALENDAR
VERSION:2.0
PRODID:-//rfr/addtomycal//NONSGML v1.0//EN
BEGIN:VEVENT
UID:rouen.fr
DTSTAMP:20260420T021903Z
DTSTART:20260206T190000Z
DTEND:20260206T190000Z
SUMMARY:Æquilibrium
DESCRIPTION:spectacle - Danse
 - tout public - De 3€ à 17€
 - Rens. et réservations : par téléphone au 02 35 98 45 05 ou sur www.letincelle-rouen.fr
 - Camille Dewaele, Compagnie La vive allure
Dès 12 ans
Durée : 50 min
Placement libre

LOCATION:Chapelle Saint-Louis, place de la Rougemare, Rouen
END:VEVENT
END:VCALENDAR
