BEGIN:VCALENDAR
VERSION:2.0
PRODID:-//rfr/addtomycal//NONSGML v1.0//EN
BEGIN:VEVENT
UID:rouen.fr
DTSTAMP:20260420T074245Z
DTSTART:20260207T130000Z
DTEND:20260207T130000Z
SUMMARY:Before Malraux
DESCRIPTION:rencontre - Evenement
 - tout public - Gratuit
 - Renseignement auprès de dorothee.PAROIELLE@rouen.fr ou par téléphone au 02 35 08 88 99
 - Proposé par le centre André-Malraux et la bibliothèque de la Grand'Mare. Sous forme d'ateliers ludiques, parlons du passé, du présent du Centre André-Malraux et surtout imaginons ensemble son cinquantième anniversaire en septembre 2026. Nous vous attendons nombreux et nombreuses pour préparer ensemble un événement inoubliable.

LOCATION:Centre André-Malraux, Rouen
END:VEVENT
END:VCALENDAR
