BEGIN:VCALENDAR
VERSION:2.0
PRODID:-//rfr/addtomycal//NONSGML v1.0//EN
BEGIN:VEVENT
UID:rouen.fr
DTSTAMP:20260420T074242Z
DTSTART:20260208T153000Z
DTEND:20260208T153000Z
SUMMARY:Le médecin malgré lui
DESCRIPTION:spectacle - Théâtre
 - tout public - Plein tarif : 25€ - tarif réduit : 20€
 - Renseignements et réservation sur https:
LOCATION:
END:VEVENT
END:VCALENDAR
