BEGIN:VCALENDAR
VERSION:2.0
PRODID:-//rfr/addtomycal//NONSGML v1.0//EN
BEGIN:VEVENT
UID:rouen.fr
DTSTAMP:20260420T074106Z
DTSTART:20260215T160000Z
DTEND:20260215T160000Z
SUMMARY:Merci, au suivant !
DESCRIPTION:spectacle - Humour
 - tout public - Plein tarif : 22€ - tarif réduit : 18€
 - Renseignements et réservation sur https:
LOCATION:
END:VEVENT
END:VCALENDAR
