BEGIN:VCALENDAR
VERSION:2.0
PRODID:-//rfr/addtomycal//NONSGML v1.0//EN
BEGIN:VEVENT
UID:rouen.fr
DTSTAMP:20260424T143150Z
DTSTART:20260301T080000Z
DTEND:20260301T170000Z
SUMMARY:Foire aux Livres d’Amnesty International de Rouen 
DESCRIPTION:salon - Solidarité
 - tout public - Entrée gratuite
 -  - Organisée par Amnesty international. Plus de 25000 ouvrages d'occasion à petit prix

LOCATION:Halle aux Toiles
, Rouen
END:VEVENT
END:VCALENDAR
