BEGIN:VCALENDAR
VERSION:2.0
PRODID:-//rfr/addtomycal//NONSGML v1.0//EN
BEGIN:VEVENT
UID:rouen.fr
DTSTAMP:20260420T073447Z
DTSTART:20260308T160000Z
DTEND:20260308T160000Z
SUMMARY:Le hasard c'est vous - A pile ou face
DESCRIPTION:spectacle - Théâtre
 - tout public - Plein tarif : 22€ - tarif réduit : 18€
 - Renseignements et réservation au 06 51 87 30 33, par mail sur rouen@theatrealouest.com ou sur le site https:
LOCATION:
END:VEVENT
END:VCALENDAR
