BEGIN:VCALENDAR
VERSION:2.0
PRODID:-//rfr/addtomycal//NONSGML v1.0//EN
BEGIN:VEVENT
UID:rouen.fr
DTSTAMP:20260424T045722Z
DTSTART:20260310T183000Z
DTEND:20260310T183000Z
SUMMARY:SPO Rouen - Nîmes
DESCRIPTION:Montpellier
LOCATION:sport - Tennis de table
 - tout public - 8€ (TR 6€ pour les - 12 ans)
 - Rens. : https:
END:VEVENT
END:VCALENDAR
