BEGIN:VCALENDAR
VERSION:2.0
PRODID:-//rfr/addtomycal//NONSGML v1.0//EN
BEGIN:VEVENT
UID:rouen.fr
DTSTAMP:20260422T164203Z
DTSTART:20260314T190000Z
DTEND:20260314T190000Z
SUMMARY:Rouen-Amiens
DESCRIPTION:sport - Hockey sur glace
 - tout public - Complet
 -  - Match 2 des quarts de finale de ligue Magnus

LOCATION:Patinoire Nathalie-Péchalat, Rouen
END:VEVENT
END:VCALENDAR
