BEGIN:VCALENDAR
VERSION:2.0
PRODID:-//rfr/addtomycal//NONSGML v1.0//EN
BEGIN:VEVENT
UID:rouen.fr
DTSTAMP:20260420T074240Z
DTSTART:20260317T170000Z
DTEND:20260317T170000Z
SUMMARY:Rencontre avec Ludivine Bantigny
DESCRIPTION:rencontre - Dédicace
 - tout public - Gratuit
 - Renseignements et réservation sur https:
LOCATION:
END:VEVENT
END:VCALENDAR
