BEGIN:VCALENDAR
VERSION:2.0
PRODID:-//rfr/addtomycal//NONSGML v1.0//EN
BEGIN:VEVENT
UID:rouen.fr
DTSTAMP:20260420T214023Z
DTSTART:20260320T190000Z
DTEND:20260320T190000Z
SUMMARY:Beethoven 7 
DESCRIPTION:musique - Danse
 - tout public - De 10 à 62 euros
 - Renseignements et réservation par téléphone au 02 35 98 74 78 ou sur le site https:
LOCATION:
END:VEVENT
END:VCALENDAR
