BEGIN:VCALENDAR
VERSION:2.0
PRODID:-//rfr/addtomycal//NONSGML v1.0//EN
BEGIN:VEVENT
UID:rouen.fr
DTSTAMP:20260424T183056Z
DTSTART:20260331T153000Z
DTEND:20260331T153000Z
SUMMARY:Alliances inattendues
DESCRIPTION:spectacle - Théâtre
 - tout public - Gratuit sur inscription
 - Infos et inscription sur le site Internet : https:
LOCATION:
END:VEVENT
END:VCALENDAR
