BEGIN:VCALENDAR
VERSION:2.0
PRODID:-//rfr/addtomycal//NONSGML v1.0//EN
BEGIN:VEVENT
UID:rouen.fr
DTSTAMP:20260424T000511Z
DTSTART:20260426T090000Z
DTEND:20260426T090000Z
SUMMARY:Rouen Baseball 76 - Templiers de Sénart
DESCRIPTION:sport - Baseball
 - tout public - Gratuit
 -  - Plus d'infos sur https:
LOCATION:
END:VEVENT
END:VCALENDAR
